BEGIN:VCALENDAR
VERSION:2.0
PRODID:-//WKF Canada - ECPv4.9.12//NONSGML v1.0//EN
CALSCALE:GREGORIAN
METHOD:PUBLISH
X-WR-CALNAME:WKF Canada
X-ORIGINAL-URL:https://wkfcanada.com
X-WR-CALDESC:Events for WKF Canada
BEGIN:VTIMEZONE
TZID:America/Toronto
BEGIN:DAYLIGHT
TZOFFSETFROM:-0500
TZOFFSETTO:-0400
TZNAME:EDT
DTSTART:20150308T070000
END:DAYLIGHT
BEGIN:STANDARD
TZOFFSETFROM:-0400
TZOFFSETTO:-0500
TZNAME:EST
DTSTART:20151101T060000
END:STANDARD
END:VTIMEZONE
BEGIN:VEVENT
DTSTART;VALUE=DATE:20150103
DTEND;VALUE=DATE:20150104
DTSTAMP:20260420T092901
CREATED:20150402T010035Z
LAST-MODIFIED:20150402T010325Z
UID:148-1420243200-1420329599@wkfcanada.com
SUMMARY:WKF General Meeting
DESCRIPTION:For any clubs that were not able to attend this meeting\, please email wkfcanada@outlook.com for more information about WKF Canada\, how you can participate or how your club can join! \nFor additional information about WKF\, please visit www.wkfworld.com. \n
URL:https://wkfcanada.com/event/wkf-general-meeting/
LOCATION:Guelph MMA\, 20 Cardigan Street\, Guelph
ORGANIZER;CN="Wolfgang%20Brutter":MAILTO:wkfcanada@outlook.com
END:VEVENT
END:VCALENDAR