BEGIN:VCALENDAR
VERSION:2.0
PRODID:-//WKF Canada - ECPv4.9.12//NONSGML v1.0//EN
CALSCALE:GREGORIAN
METHOD:PUBLISH
X-WR-CALNAME:WKF Canada
X-ORIGINAL-URL:https://wkfcanada.com
X-WR-CALDESC:Events for WKF Canada
BEGIN:VTIMEZONE
TZID:America/Toronto
BEGIN:DAYLIGHT
TZOFFSETFROM:-0500
TZOFFSETTO:-0400
TZNAME:EDT
DTSTART:20160313T070000
END:DAYLIGHT
BEGIN:STANDARD
TZOFFSETFROM:-0400
TZOFFSETTO:-0500
TZNAME:EST
DTSTART:20161106T060000
END:STANDARD
END:VTIMEZONE
BEGIN:VEVENT
DTSTART;VALUE=DATE:20160116
DTEND;VALUE=DATE:20160117
DTSTAMP:20260419T191544
CREATED:20150811T043835Z
LAST-MODIFIED:20151103T004743Z
UID:318-1452902400-1452988799@wkfcanada.com
SUMMARY:WKF Canada 2016 Officials Clinic
DESCRIPTION:We are pleased to announce that the World Kickboxing Federation Canada will be holding an Officials Clinic on JANUARY 16\, 2016 at 9:30 am. Registration must be received in advance.\n\n\n\nThe deadline for RSVP is Friday January 13\, 2015.\n\n\nThis will be the ONLY training session we will be hosting for 2016.  We invite you join us! This is not only a seminar for beginners\, but also for persons with some referee and judging experience and background.  Please email us at wkfcanada@outlook.com for registration forms and details.\n\nBecome part of THE REAL GLOBAL PLAYER!  Visit us online at www.wkfcanada.com or follow us on Facebook by liking our page: WKF Canada – World Kickboxing Federation\n\n
URL:https://wkfcanada.com/event/wkf-canada-officials-clinic/
LOCATION:Ottawa Academy of Martial Arts\, 1810 Carling Avenue\, Ottawa\, Ontario\, K2A 1E2\, Canada
ORGANIZER;CN="Wolfgang%20Brutter":MAILTO:wkfcanada@outlook.com
END:VEVENT
END:VCALENDAR