BEGIN:VCALENDAR
VERSION:2.0
PRODID:-//WKF Canada - ECPv4.9.12//NONSGML v1.0//EN
CALSCALE:GREGORIAN
METHOD:PUBLISH
X-WR-CALNAME:WKF Canada
X-ORIGINAL-URL:https://wkfcanada.com
X-WR-CALDESC:Events for WKF Canada
BEGIN:VTIMEZONE
TZID:America/Toronto
BEGIN:DAYLIGHT
TZOFFSETFROM:-0500
TZOFFSETTO:-0400
TZNAME:EDT
DTSTART:20160313T070000
END:DAYLIGHT
BEGIN:STANDARD
TZOFFSETFROM:-0400
TZOFFSETTO:-0500
TZNAME:EST
DTSTART:20161106T060000
END:STANDARD
END:VTIMEZONE
BEGIN:VEVENT
DTSTART;TZID=America/Toronto:20160213T193000
DTEND;TZID=America/Toronto:20160213T230000
DTSTAMP:20260419T134003
CREATED:20160205T044347Z
LAST-MODIFIED:20160205T044347Z
UID:569-1455391800-1455404400@wkfcanada.com
SUMMARY:VICTORY MUAY THAI 11 Hosted by Victory Training Center
DESCRIPTION:Bonjour Québec! Bienvenue dans la famille WKF!! \nWKF Canada will be in MONTREAL for VICTORY MUAY THAI 11 hosted by Victory Training Centre on February 13\, 2016. \nVenue: Club Soda \n\nTickets for VICTORY MUAY THAI 11 go on sale Friday January 22 at the Club Soda box office\, Victory Training Center\, and participating gyms. They are priced at $30 for General Admission and $30\, $35\, $40 for reserved VIP tables. \n\n  \n
URL:https://wkfcanada.com/event/victory-muay-thai-11-hosted-by-victory-training-center/
LOCATION:Club Soda\, 1225 St-Laurent\, Montreal\, Quebec\, H2X 2S6\, Canada
ATTACH;FMTTYPE=image/jpeg:https://wkfcanada.com/wp-content/uploads/2016/02/Feb-13-Montreal.jpg
END:VEVENT
END:VCALENDAR