BEGIN:VCALENDAR
VERSION:2.0
PRODID:-//WKF Canada - ECPv4.9.12//NONSGML v1.0//EN
CALSCALE:GREGORIAN
METHOD:PUBLISH
X-WR-CALNAME:WKF Canada
X-ORIGINAL-URL:https://wkfcanada.com
X-WR-CALDESC:Events for WKF Canada
BEGIN:VTIMEZONE
TZID:America/Toronto
BEGIN:DAYLIGHT
TZOFFSETFROM:-0500
TZOFFSETTO:-0400
TZNAME:EDT
DTSTART:20150308T070000
END:DAYLIGHT
BEGIN:STANDARD
TZOFFSETFROM:-0400
TZOFFSETTO:-0500
TZNAME:EST
DTSTART:20151101T060000
END:STANDARD
END:VTIMEZONE
BEGIN:VEVENT
DTSTART;TZID=America/Toronto:20150613T150000
DTEND;TZID=America/Toronto:20150613T220000
DTSTAMP:20260420T065559
CREATED:20150413T045104Z
LAST-MODIFIED:20150609T031713Z
UID:213-1434207600-1434232800@wkfcanada.com
SUMMARY:Live Kickboxing & K1 Fights hosted by Twin Dragon & Effective Kickboxing
DESCRIPTION: \nAmateur Kickboxing and K1 style fights. Another great action packed night of fights. Looking forward to seeing everyone there! \n
URL:https://wkfcanada.com/event/twin-dragon-fight-night-live-kickboxing-k1-fights/
LOCATION:Royal Canadian Legion\, Branch 101\, 3850 Lakeshore Boulevard West\, Toronto\, Ontario\, M8W 1R3\, Canada
ATTACH;FMTTYPE=image/jpeg:https://wkfcanada.com/wp-content/uploads/2015/04/June-13-2015.jpg
ORGANIZER;CN="Rick%20Maresch":MAILTO:rick@twindragonnorth.com
END:VEVENT
END:VCALENDAR