BEGIN:VCALENDAR
VERSION:2.0
PRODID:-//WKF Canada - ECPv4.9.12//NONSGML v1.0//EN
CALSCALE:GREGORIAN
METHOD:PUBLISH
X-WR-CALNAME:WKF Canada
X-ORIGINAL-URL:https://wkfcanada.com
X-WR-CALDESC:Events for WKF Canada
BEGIN:VTIMEZONE
TZID:America/Toronto
BEGIN:DAYLIGHT
TZOFFSETFROM:-0500
TZOFFSETTO:-0400
TZNAME:EDT
DTSTART:20150308T070000
END:DAYLIGHT
BEGIN:STANDARD
TZOFFSETFROM:-0400
TZOFFSETTO:-0500
TZNAME:EST
DTSTART:20151101T060000
END:STANDARD
END:VTIMEZONE
BEGIN:VEVENT
DTSTART;TZID=America/Toronto:20150508T180000
DTEND;TZID=America/Toronto:20150508T230000
DTSTAMP:20260420T085849
CREATED:20150413T044800Z
LAST-MODIFIED:20150413T044800Z
UID:210-1431108000-1431126000@wkfcanada.com
SUMMARY:THROWDOWN IN O-TOWN Hosted by OAMA
DESCRIPTION:WKF Canada is coming back to Canada’s Capital – OTTAWA!!!\nOn May 8th\, the audience at St. Anthony’s in little Italy will witness a resurrection of the original Muay Thai promotion in the Ottawa region! \nLocation: St. Anthony’s Banquet Hall\n523 St. Anthony Street\, Ottawa\, Ontario\, Ottawa\, Ontario K1R\nTickets: $35 in advance\, $40 at the door \n\nMore details can be found here:\nhttps://www.facebook.com/events/642414462556941/ \n\n
URL:https://wkfcanada.com/event/throwdown-in-o-town-hosted-by-oama/
LOCATION:St. Anthony’s Soccer Hall\, Preston Street\, Ottawa\, Ontario\, Canada
ATTACH;FMTTYPE=image/jpeg:https://wkfcanada.com/wp-content/uploads/2015/04/Throwdown-Otown-May-8-2015.jpg
END:VEVENT
END:VCALENDAR