BEGIN:VCALENDAR
VERSION:2.0
PRODID:-//WKF Canada - ECPv4.9.12//NONSGML v1.0//EN
CALSCALE:GREGORIAN
METHOD:PUBLISH
X-WR-CALNAME:WKF Canada
X-ORIGINAL-URL:https://wkfcanada.com
X-WR-CALDESC:Events for WKF Canada
BEGIN:VTIMEZONE
TZID:America/Toronto
BEGIN:DAYLIGHT
TZOFFSETFROM:-0500
TZOFFSETTO:-0400
TZNAME:EDT
DTSTART:20150308T070000
END:DAYLIGHT
BEGIN:STANDARD
TZOFFSETFROM:-0400
TZOFFSETTO:-0500
TZNAME:EST
DTSTART:20151101T060000
END:STANDARD
END:VTIMEZONE
BEGIN:VEVENT
DTSTART;TZID=America/Toronto:20150410T190000
DTEND;TZID=America/Toronto:20150410T230000
DTSTAMP:20260420T065252
CREATED:20150413T035632Z
LAST-MODIFIED:20150413T035952Z
UID:177-1428692400-1428706800@wkfcanada.com
SUMMARY:Return Of The Dragons
DESCRIPTION:VIP-$100 includes dinner and two bottles of wine per table\, General tickets $30 in advance or $35 at the door \n
URL:https://wkfcanada.com/event/return-of-the-dragons/
LOCATION:Paradise Banquet Hall\, 7601 Jane Street\, Concord\, Ontario\, L4K 1X2\, Canada
ATTACH;FMTTYPE=image/jpeg:https://wkfcanada.com/wp-content/uploads/2015/02/April-10-POSTER-2015.jpg
END:VEVENT
END:VCALENDAR