BEGIN:VCALENDAR
VERSION:2.0
PRODID:-//WKF Canada - ECPv4.9.12//NONSGML v1.0//EN
CALSCALE:GREGORIAN
METHOD:PUBLISH
X-WR-CALNAME:WKF Canada
X-ORIGINAL-URL:https://wkfcanada.com
X-WR-CALDESC:Events for WKF Canada
BEGIN:VTIMEZONE
TZID:America/Toronto
BEGIN:DAYLIGHT
TZOFFSETFROM:-0500
TZOFFSETTO:-0400
TZNAME:EDT
DTSTART:20150308T070000
END:DAYLIGHT
BEGIN:STANDARD
TZOFFSETFROM:-0400
TZOFFSETTO:-0500
TZNAME:EST
DTSTART:20151101T060000
END:STANDARD
END:VTIMEZONE
BEGIN:VEVENT
DTSTART;TZID=America/Toronto:20150725T140000
DTEND;TZID=America/Toronto:20150725T190000
DTSTAMP:20260420T030247
CREATED:20150514T043642Z
LAST-MODIFIED:20150514T043651Z
UID:266-1437832800-1437850800@wkfcanada.com
SUMMARY:Quest for the Voyageur Title IV Hosted by Team Action Mattawa
DESCRIPTION:
URL:https://wkfcanada.com/event/quest-for-the-voyageur-title-iv-hosted-by-team-action/
LOCATION:Mike Rodden Arena\, 450 Hurdman Street\, Mattawa\, Ontatrio\, Canada
END:VEVENT
END:VCALENDAR