BEGIN:VCALENDAR
VERSION:2.0
PRODID:-//WKF Canada - ECPv4.9.12//NONSGML v1.0//EN
CALSCALE:GREGORIAN
METHOD:PUBLISH
X-WR-CALNAME:WKF Canada
X-ORIGINAL-URL:https://wkfcanada.com
X-WR-CALDESC:Events for WKF Canada
BEGIN:VTIMEZONE
TZID:America/Toronto
BEGIN:DAYLIGHT
TZOFFSETFROM:-0500
TZOFFSETTO:-0400
TZNAME:EDT
DTSTART:20150308T070000
END:DAYLIGHT
BEGIN:STANDARD
TZOFFSETFROM:-0400
TZOFFSETTO:-0500
TZNAME:EST
DTSTART:20151101T060000
END:STANDARD
END:VTIMEZONE
BEGIN:VEVENT
DTSTART;TZID=America/Toronto:20150426T130000
DTEND;TZID=America/Toronto:20150426T170000
DTSTAMP:20260420T065154
CREATED:20150327T192355Z
LAST-MODIFIED:20150413T041607Z
UID:139-1430053200-1430067600@wkfcanada.com
SUMMARY:New Generation - Live Kickboxing
DESCRIPTION:NEW GENERATION on April 26th in Guelph\, ON will feature fighters from across Ontario just stepping into the ring… giving the opportunity to and supporting the NEW GENERATION… \nDoors: 1:00 pm\nFights: 2:00 pm\nTickets: $25 in advance\, $30 at the door\nTickets available at GUELPH MMA or by calling 519-222-3483. \n
URL:https://wkfcanada.com/event/new-generation-live-kickboxing/
LOCATION:Royal Canadian Legion\, 57 Watson Parkway South\, Guelph\, Ontario\, Canada
ATTACH;FMTTYPE=image/jpeg:https://wkfcanada.com/wp-content/uploads/2015/03/11021380_10204912457303795_2599357869202781723_o.jpg
ORGANIZER;CN="Guelph%20MMA":MAILTO:info@guelphmma.com
END:VEVENT
END:VCALENDAR