BEGIN:VCALENDAR
VERSION:2.0
PRODID:-//WKF Canada - ECPv4.9.12//NONSGML v1.0//EN
CALSCALE:GREGORIAN
METHOD:PUBLISH
X-WR-CALNAME:WKF Canada
X-ORIGINAL-URL:https://wkfcanada.com
X-WR-CALDESC:Events for WKF Canada
BEGIN:VTIMEZONE
TZID:America/Toronto
BEGIN:DAYLIGHT
TZOFFSETFROM:-0500
TZOFFSETTO:-0400
TZNAME:EDT
DTSTART:20150308T070000
END:DAYLIGHT
BEGIN:STANDARD
TZOFFSETFROM:-0400
TZOFFSETTO:-0500
TZNAME:EST
DTSTART:20151101T060000
END:STANDARD
END:VTIMEZONE
BEGIN:VEVENT
DTSTART;TZID=America/Toronto:20150606T170000
DTEND;TZID=America/Toronto:20150606T230000
DTSTAMP:20260420T092901
CREATED:20150413T042612Z
LAST-MODIFIED:20150413T050401Z
UID:200-1433610000-1433631600@wkfcanada.com
SUMMARY:KING OF THE RING - Live Muay Thai
DESCRIPTION: \n
URL:https://wkfcanada.com/event/king-of-the-ring-live-muay-thai/
LOCATION:Woodstock Fair Grounds – Oxford Hall – OLG\, 875 Nellis Street\, Woodstock\, Ontario\, N4S 4C6\, Canada
ATTACH;FMTTYPE=image/jpeg:https://wkfcanada.com/wp-content/uploads/2015/04/King-of-the-Ring-jun-6-2015.jpg
END:VEVENT
END:VCALENDAR