BEGIN:VCALENDAR
VERSION:2.0
PRODID:-//WKF Canada - ECPv4.9.12//NONSGML v1.0//EN
CALSCALE:GREGORIAN
METHOD:PUBLISH
X-WR-CALNAME:WKF Canada
X-ORIGINAL-URL:https://wkfcanada.com
X-WR-CALDESC:Events for WKF Canada
BEGIN:VTIMEZONE
TZID:America/Toronto
BEGIN:DAYLIGHT
TZOFFSETFROM:-0500
TZOFFSETTO:-0400
TZNAME:EDT
DTSTART:20160313T070000
END:DAYLIGHT
BEGIN:STANDARD
TZOFFSETFROM:-0400
TZOFFSETTO:-0500
TZNAME:EST
DTSTART:20161106T060000
END:STANDARD
END:VTIMEZONE
BEGIN:VEVENT
DTSTART;TZID=America/Toronto:20160109T110000
DTEND;TZID=America/Toronto:20160109T170000
DTSTAMP:20260419T191403
CREATED:20160205T041324Z
LAST-MODIFIED:20160205T041324Z
UID:562-1452337200-1452358800@wkfcanada.com
SUMMARY:General Meeting - WKF Canada - World Kickboxing Federation
DESCRIPTION:We will be hosting the 2016 WKF Canada – World Kickboxing Federation General Meeting. \nThis invite is for Clubs and Schools ONLY – Maximum 2 representatives per school. Please RSVP with contact details (including representatives names\, contact phone numbers and club name) by no later than DECEMBER 31\, 2015. Email details to wkfcanada@outlook.com. \nPlease find all rules and regulations at www.wkfworld.com \nWe will be discussing the schedule\, changes and goals of 2016 as well as providing information and answering questions. \n***A giant thank you to Kawartha Combat for opening their space to us. Please be mindful not to contact them with questions. Please use the contact details above.*** \n
URL:https://wkfcanada.com/event/general-meeting-wkf-canada-world-kickboxing-federation/
LOCATION:Kawartha Combat\, 910 High street UNIT 15\, Peterborough\, Ontario\, Canada
ORGANIZER;CN="Wolfgang%20Brutter":MAILTO:wkfcanada@outlook.com
END:VEVENT
END:VCALENDAR