BEGIN:VCALENDAR
VERSION:2.0
PRODID:-//WKF Canada - ECPv4.9.12//NONSGML v1.0//EN
CALSCALE:GREGORIAN
METHOD:PUBLISH
X-WR-CALNAME:WKF Canada
X-ORIGINAL-URL:https://wkfcanada.com
X-WR-CALDESC:Events for WKF Canada
BEGIN:VTIMEZONE
TZID:America/Toronto
BEGIN:DAYLIGHT
TZOFFSETFROM:-0500
TZOFFSETTO:-0400
TZNAME:EDT
DTSTART:20150308T070000
END:DAYLIGHT
BEGIN:STANDARD
TZOFFSETFROM:-0400
TZOFFSETTO:-0500
TZNAME:EST
DTSTART:20151101T060000
END:STANDARD
END:VTIMEZONE
BEGIN:VEVENT
DTSTART;TZID=America/Toronto:20150130T190000
DTEND;TZID=America/Toronto:20150130T230000
DTSTAMP:20260420T102742
CREATED:20150402T012229Z
LAST-MODIFIED:20150413T040130Z
UID:158-1422644400-1422658800@wkfcanada.com
SUMMARY:Capital Punishment hosted by Capital Muay Thai Promotions
DESCRIPTION:WKF Canada is bringing the fights to Canada’s Capital – OTTAWA – on January 30th!! EXCITING! With a jam packed line up\, including a 4-Man Tournament for the WKF Provincial 63.5 kgs Open Class Full Rules Muay Thai Championship:\nPaolo Millo – Southside Muay Thai – Toronto\, ON\nCorey Jackson – Team Action – Mattawa\, ON\nRandy Fortier – OAMA – Ottawa\, ON\nAntonio Arnold – Westside Muay Thai – Ottawa\, ON\nThese matchups will be no less than fireworks- so get your tickets now before they are sold out!!!\nGeneral Admission\n————————-\nPre-purchase: $35\nAt the door: $40\nVIP Ringside: $45\n————————- \n
URL:https://wkfcanada.com/event/capital-punishment-hosted-by-capital-muay-thai-promotions/
LOCATION:St. Anthony’s Soccer Hall\, Preston Street\, Ottawa\, Ontario\, Canada
ATTACH;FMTTYPE=image/jpeg:https://wkfcanada.com/wp-content/uploads/2015/01/Capital-Punishment.jpg
END:VEVENT
END:VCALENDAR