BEGIN:VCALENDAR
VERSION:2.0
PRODID:-//WKF Canada - ECPv4.9.12//NONSGML v1.0//EN
CALSCALE:GREGORIAN
METHOD:PUBLISH
X-WR-CALNAME:WKF Canada
X-ORIGINAL-URL:https://wkfcanada.com
X-WR-CALDESC:Events for WKF Canada
BEGIN:VTIMEZONE
TZID:America/Toronto
BEGIN:DAYLIGHT
TZOFFSETFROM:-0500
TZOFFSETTO:-0400
TZNAME:EDT
DTSTART:20150308T070000
END:DAYLIGHT
BEGIN:STANDARD
TZOFFSETFROM:-0400
TZOFFSETTO:-0500
TZNAME:EST
DTSTART:20151101T060000
END:STANDARD
END:VTIMEZONE
BEGIN:VEVENT
DTSTART;TZID=America/Toronto:20151003T170000
DTEND;TZID=America/Toronto:20151003T230000
DTSTAMP:20260420T005924
CREATED:20150707T045448Z
LAST-MODIFIED:20160205T051205Z
UID:294-1443891600-1443913200@wkfcanada.com
SUMMARY:BATTLE OF NATIONS
DESCRIPTION: \n
URL:https://wkfcanada.com/event/battle-of-nations/
LOCATION:Mohawk Racetrack\, 9430 Guelph Line\, Campbellville\, Ontario\, L0P 1B0\, Canada
ATTACH;FMTTYPE=image/jpeg:https://wkfcanada.com/wp-content/uploads/2015/07/Poster-Battle-of-Nations-Oct-3-Generic.jpg
ORGANIZER;CN="Guelph%20MMA":MAILTO:info@guelphmma.com
END:VEVENT
END:VCALENDAR