BEGIN:VCALENDAR
VERSION:2.0
PRODID:-//WKF Canada - ECPv4.9.12//NONSGML v1.0//EN
CALSCALE:GREGORIAN
METHOD:PUBLISH
X-WR-CALNAME:WKF Canada
X-ORIGINAL-URL:https://wkfcanada.com
X-WR-CALDESC:Events for WKF Canada
BEGIN:VTIMEZONE
TZID:America/Toronto
BEGIN:DAYLIGHT
TZOFFSETFROM:-0500
TZOFFSETTO:-0400
TZNAME:EDT
DTSTART:20150308T070000
END:DAYLIGHT
BEGIN:STANDARD
TZOFFSETFROM:-0400
TZOFFSETTO:-0500
TZNAME:EST
DTSTART:20151101T060000
END:STANDARD
END:VTIMEZONE
BEGIN:VEVENT
DTSTART;TZID=America/Toronto:20150919T130000
DTEND;TZID=America/Toronto:20150919T170000
DTSTAMP:20260420T042846
CREATED:20150805T022525Z
LAST-MODIFIED:20150811T033304Z
UID:301-1442667600-1442682000@wkfcanada.com
SUMMARY:Battle At The Bone hosted by Ottawa Fight & Fitness
DESCRIPTION:Ottawa’s First Ever Outdoor Muay Thai Show!! \nBattle at the Bone on September 19th is brought to you by Ottawa Fight & Fitness and The Whalesbone Oyster House\, Catering and Fish Supply and sanctioned by WKF Canada – World Kickboxing Federation. Fights under the big tent in the open air with authentic Thai food and temple fights ambiance. We’re kicking it Thailand style with this one right in downtown Ottawa!\nMatchmaking is under way for this historical event. \n
URL:https://wkfcanada.com/event/battle-at-the-bone-hosted-by-ottawa-fight-fitness/
LOCATION:Whalebones on Kent St.\, 504-A Kent Street\, Ottawa\, Ontario\, K2P 2B9\, Canada
END:VEVENT
END:VCALENDAR